BEGIN:VCALENDAR
VERSION:2.0
PRODID:-//hacksw/handcal//NONSGML v1.0//EN
CALSCALE:GREGORIAN
BEGIN:VEVENT
DTSTART:20140102T090000Z
DTEND:20140102T090000Z
UID:e14260
DTSTAMP:20260424T174902Z
LOCATION:Jacob Ziskind Building
DESCRIPTION:Learning with Lower Information Costs 
SUMMARY:Learning with Lower Information Costs 
END:VEVENT
END:VCALENDAR