BEGIN:VCALENDAR
VERSION:2.0
PRODID:-//hacksw/handcal//NONSGML v1.0//EN
CALSCALE:GREGORIAN
BEGIN:VEVENT
DTSTART:20140107T103000Z
DTEND:20140107T113000Z
UID:e14265
DTSTAMP:20260425T072026Z
LOCATION:Wolfson Building for Biological Research
DESCRIPTION:"Endothelial machineries controlling leukocyte transmigration across inflamed barriers"
SUMMARY:"Endothelial machineries controlling leukocyte transmigration across inflamed barriers"
END:VEVENT
END:VCALENDAR