BEGIN:VCALENDAR
VERSION:2.0
PRODID:-//hacksw/handcal//NONSGML v1.0//EN
CALSCALE:GREGORIAN
BEGIN:VEVENT
DTSTART:20131230T100000Z
DTEND:20131230T100000Z
UID:e14267
DTSTAMP:20260424T225424Z
LOCATION:Wolfson Building for Biological Research
DESCRIPTION:Cardio-vascular and obesogenic effects of hormonal therapy for prostate cancer 
SUMMARY:Cardio-vascular and obesogenic effects of hormonal therapy for prostate cancer 
END:VEVENT
END:VCALENDAR