BEGIN:VCALENDAR
VERSION:2.0
PRODID:-//hacksw/handcal//NONSGML v1.0//EN
CALSCALE:GREGORIAN
BEGIN:VEVENT
DTSTART:20140203T080000Z
DTEND:20140203T090000Z
UID:e14268
DTSTAMP:20260425T234750Z
LOCATION:Wolfson Building for Biological Research
DESCRIPTION:"Protease-activated-receptors: PARtners in physiological and pathophysiological processes"
SUMMARY:"Protease-activated-receptors: PARtners in physiological and pathophysiological processes"
END:VEVENT
END:VCALENDAR