BEGIN:VCALENDAR
VERSION:2.0
PRODID:-//hacksw/handcal//NONSGML v1.0//EN
CALSCALE:GREGORIAN
BEGIN:VEVENT
DTSTART:20140107T080000Z
DTEND:20140107T080000Z
UID:e14282
DTSTAMP:20260424T174858Z
LOCATION:Jacob Ziskind Building
DESCRIPTION:Global Well-posedness of an Inviscid Three-dimensional Pseudo-Hasegawa-Mima-Charney-Obukhov Model
SUMMARY:Global Well-posedness of an Inviscid Three-dimensional Pseudo-Hasegawa-Mima-Charney-Obukhov Model
END:VEVENT
END:VCALENDAR