BEGIN:VCALENDAR
VERSION:2.0
PRODID:-//hacksw/handcal//NONSGML v1.0//EN
CALSCALE:GREGORIAN
BEGIN:VEVENT
DTSTART:20140121T110000Z
DTEND:20140121T120000Z
UID:e14284
DTSTAMP:20260425T081609Z
LOCATION:Helen and Milton A. Kimmelman Building
DESCRIPTION:&#8220\;Symmetry breaking in reconstituted 
SUMMARY:&#8220\;Symmetry breaking in reconstituted 
END:VEVENT
END:VCALENDAR