BEGIN:VCALENDAR
VERSION:2.0
PRODID:-//hacksw/handcal//NONSGML v1.0//EN
CALSCALE:GREGORIAN
BEGIN:VEVENT
DTSTART:20140107T063000Z
DTEND:20140107T063000Z
UID:e14300
DTSTAMP:20260424T174856Z
LOCATION:Perlman Chemical Sciences Building
DESCRIPTION:High-throughput picoliter -screening using Drop-Based Microfluidics
SUMMARY:High-throughput picoliter -screening using Drop-Based Microfluidics
END:VEVENT
END:VCALENDAR