BEGIN:VCALENDAR
VERSION:2.0
PRODID:-//hacksw/handcal//NONSGML v1.0//EN
CALSCALE:GREGORIAN
BEGIN:VEVENT
DTSTART:20140116T110000Z
DTEND:20140116T110000Z
UID:e14304
DTSTAMP:20260425T070946Z
LOCATION:Perlman Chemical Sciences Building
DESCRIPTION:The Physics and Chemistry of the Schottky Barrier Height
SUMMARY:The Physics and Chemistry of the Schottky Barrier Height
END:VEVENT
END:VCALENDAR