BEGIN:VCALENDAR
VERSION:2.0
PRODID:-//hacksw/handcal//NONSGML v1.0//EN
CALSCALE:GREGORIAN
BEGIN:VEVENT
DTSTART:20140115T110000Z
DTEND:20140115T120000Z
UID:e14308
DTSTAMP:20260425T072026Z
LOCATION:Wolfson Building for Biological Research
DESCRIPTION:"Micromanaging macrophages:  Molecular mechanisms regulating macrophages in autoimmunity"
SUMMARY:"Micromanaging macrophages:  Molecular mechanisms regulating macrophages in autoimmunity"
END:VEVENT
END:VCALENDAR