BEGIN:VCALENDAR
VERSION:2.0
PRODID:-//hacksw/handcal//NONSGML v1.0//EN
CALSCALE:GREGORIAN
BEGIN:VEVENT
DTSTART:20140121T113000Z
DTEND:20140121T113000Z
UID:e14318
DTSTAMP:20260425T081617Z
LOCATION:Arthur and Rochelle Belfer Building for Biomedical Research
DESCRIPTION:Mapping the embryo for stem cells research\; LifeMap Discovery&#8482\; as a road map
SUMMARY:Mapping the embryo for stem cells research\; LifeMap Discovery&#8482\; as a road map
END:VEVENT
END:VCALENDAR