BEGIN:VCALENDAR
VERSION:2.0
PRODID:-//hacksw/handcal//NONSGML v1.0//EN
CALSCALE:GREGORIAN
BEGIN:VEVENT
DTSTART:20140203T110000Z
DTEND:20140203T110000Z
UID:e14324
DTSTAMP:20260425T234752Z
LOCATION:Max and Lillian Candiotty Building
DESCRIPTION:Pro-inflammatory Signaling by Cancer-Associated Fibroblasts Co-Evolves During Tumor progression
SUMMARY:Pro-inflammatory Signaling by Cancer-Associated Fibroblasts Co-Evolves During Tumor progression
END:VEVENT
END:VCALENDAR