BEGIN:VCALENDAR
VERSION:2.0
PRODID:-//hacksw/handcal//NONSGML v1.0//EN
CALSCALE:GREGORIAN
BEGIN:VEVENT
DTSTART:20140116T070000Z
DTEND:20140116T070000Z
UID:e14329
DTSTAMP:20260425T072028Z
LOCATION:Sussman Family Building for Environmental Sciences
DESCRIPTION:The thermocline and the tropopause: analogs or antonyms?
SUMMARY:The thermocline and the tropopause: analogs or antonyms?
END:VEVENT
END:VCALENDAR