BEGIN:VCALENDAR
VERSION:2.0
PRODID:-//hacksw/handcal//NONSGML v1.0//EN
CALSCALE:GREGORIAN
BEGIN:VEVENT
DTSTART:20140116T081500Z
DTEND:20140116T093000Z
UID:e14334
DTSTAMP:20260425T072026Z
LOCATION:Edna and K.B. Weissman Building of Physical Sciences
DESCRIPTION:Exotic Quantum States at the Edge:
SUMMARY:Exotic Quantum States at the Edge:
END:VEVENT
END:VCALENDAR