BEGIN:VCALENDAR
VERSION:2.0
PRODID:-//hacksw/handcal//NONSGML v1.0//EN
CALSCALE:GREGORIAN
BEGIN:VEVENT
DTSTART:20140204T113000Z
DTEND:20140204T123000Z
UID:e14343
DTSTAMP:20260425T234733Z
LOCATION:Arthur and Rochelle Belfer Building for Biomedical Research
DESCRIPTION:The Virus World and the Virus-Host Arms Races as the Key Factor of Evolution
SUMMARY:The Virus World and the Virus-Host Arms Races as the Key Factor of Evolution
END:VEVENT
END:VCALENDAR