BEGIN:VCALENDAR
VERSION:2.0
PRODID:-//hacksw/handcal//NONSGML v1.0//EN
CALSCALE:GREGORIAN
BEGIN:VEVENT
DTSTART:20140115T100000Z
DTEND:20140115T120000Z
UID:e14344
DTSTAMP:20260425T072027Z
LOCATION:Dolfi and Lola Ebner Auditorium
DESCRIPTION:Merck-Serono supported lectures
SUMMARY:Merck-Serono supported lectures
END:VEVENT
END:VCALENDAR