BEGIN:VCALENDAR
VERSION:2.0
PRODID:-//hacksw/handcal//NONSGML v1.0//EN
CALSCALE:GREGORIAN
BEGIN:VEVENT
DTSTART:20140122T080000Z
DTEND:20140122T080000Z
UID:e14349
DTSTAMP:20260425T081609Z
LOCATION:Jacob Ziskind Building
DESCRIPTION:Residues and Duality for Schemes and Stacks 
SUMMARY:Residues and Duality for Schemes and Stacks 
END:VEVENT
END:VCALENDAR