BEGIN:VCALENDAR
VERSION:2.0
PRODID:-//hacksw/handcal//NONSGML v1.0//EN
CALSCALE:GREGORIAN
BEGIN:VEVENT
DTSTART:20140121T103000Z
DTEND:20140121T110000Z
UID:e14350
DTSTAMP:20260425T070925Z
LOCATION:Wolfson Building for Biological Research
DESCRIPTION:"Induction of hematopoietic chimerism as a platform for immune tolerance in organ transplantation and for cell therapy"
SUMMARY:"Induction of hematopoietic chimerism as a platform for immune tolerance in organ transplantation and for cell therapy"
END:VEVENT
END:VCALENDAR