BEGIN:VCALENDAR
VERSION:2.0
PRODID:-//hacksw/handcal//NONSGML v1.0//EN
CALSCALE:GREGORIAN
BEGIN:VEVENT
DTSTART:20140121T110000Z
DTEND:20140121T113000Z
UID:e14351
DTSTAMP:20260425T081615Z
LOCATION:Wolfson Building for Biological Research
DESCRIPTION:"Deciphering the Molecular Mechanisms Driving Expression of the Autoimmune Regulator (AIRE) Gene"
SUMMARY:"Deciphering the Molecular Mechanisms Driving Expression of the Autoimmune Regulator (AIRE) Gene"
END:VEVENT
END:VCALENDAR