BEGIN:VCALENDAR
VERSION:2.0
PRODID:-//hacksw/handcal//NONSGML v1.0//EN
CALSCALE:GREGORIAN
BEGIN:VEVENT
DTSTART:20141202T120000Z
DTEND:20141202T140000Z
UID:e14355
DTSTAMP:20260422T145014Z
LOCATION:The David Lopatie Conference Centre
DESCRIPTION:2014 Weizmann Memorial Lectures
SUMMARY:2014 Weizmann Memorial Lectures
END:VEVENT
END:VCALENDAR