BEGIN:VCALENDAR
VERSION:2.0
PRODID:-//hacksw/handcal//NONSGML v1.0//EN
CALSCALE:GREGORIAN
BEGIN:VEVENT
DTSTART:20140409T070000Z
DTEND:20140409T070000Z
UID:e14358
DTSTAMP:20260423T033839Z
LOCATION:Arthur and Rochelle Belfer Building for Biomedical Research
DESCRIPTION:How YouTube the vertebrate's body: insights from zebrafish
SUMMARY:How YouTube the vertebrate's body: insights from zebrafish
END:VEVENT
END:VCALENDAR