BEGIN:VCALENDAR
VERSION:2.0
PRODID:-//hacksw/handcal//NONSGML v1.0//EN
CALSCALE:GREGORIAN
BEGIN:VEVENT
DTSTART:20140423T070000Z
DTEND:20140423T070000Z
UID:e14359
DTSTAMP:20260424T050149Z
LOCATION:Arthur and Rochelle Belfer Building for Biomedical Research
DESCRIPTION:How the sperm mitochondria end up being used and dumped
SUMMARY:How the sperm mitochondria end up being used and dumped
END:VEVENT
END:VCALENDAR