BEGIN:VCALENDAR
VERSION:2.0
PRODID:-//hacksw/handcal//NONSGML v1.0//EN
CALSCALE:GREGORIAN
BEGIN:VEVENT
DTSTART:20140511T070000Z
DTEND:20140511T070000Z
UID:e14363
DTSTAMP:20260425T075216Z
LOCATION:Arthur and Rochelle Belfer Building for Biomedical Research
DESCRIPTION:Actin remodeling and local protein synthesis: two coordinated processes affected in FXS and ASD
SUMMARY:Actin remodeling and local protein synthesis: two coordinated processes affected in FXS and ASD
END:VEVENT
END:VCALENDAR