BEGIN:VCALENDAR
VERSION:2.0
PRODID:-//hacksw/handcal//NONSGML v1.0//EN
CALSCALE:GREGORIAN
BEGIN:VEVENT
DTSTART:20140409T050000Z
DTEND:20140410T150000Z
UID:e14364
DTSTAMP:20260423T005216Z
LOCATION:The David Lopatie Conference Centre
DESCRIPTION:Structure and evolution of the wheat genome
SUMMARY:Structure and evolution of the wheat genome
END:VEVENT
END:VCALENDAR