BEGIN:VCALENDAR
VERSION:2.0
PRODID:-//hacksw/handcal//NONSGML v1.0//EN
CALSCALE:GREGORIAN
BEGIN:VEVENT
DTSTART:20140123T081500Z
DTEND:20140123T093000Z
UID:e14371
DTSTAMP:20260425T081610Z
LOCATION:Edna and K.B. Weissman Building of Physical Sciences
DESCRIPTION:&#8220\;CONTROLLING AND EXPLORING QUANTUM MATTER AT THE SINGLE ATOM LEVEL&#8221\;
SUMMARY:&#8220\;CONTROLLING AND EXPLORING QUANTUM MATTER AT THE SINGLE ATOM LEVEL&#8221\;
END:VEVENT
END:VCALENDAR