BEGIN:VCALENDAR
VERSION:2.0
PRODID:-//hacksw/handcal//NONSGML v1.0//EN
CALSCALE:GREGORIAN
BEGIN:VEVENT
DTSTART:20140129T110000Z
DTEND:20140129T120000Z
UID:e14372
DTSTAMP:20260425T234754Z
LOCATION:Helen and Milton A. Kimmelman Building
DESCRIPTION:&#8220\;Protein Kinase A signaling network: visualizing through macromolecular assembly and high resolution mosaic imaging of the brain&#8221\;
SUMMARY:&#8220\;Protein Kinase A signaling network: visualizing through macromolecular assembly and high resolution mosaic imaging of the brain&#8221\;
END:VEVENT
END:VCALENDAR