BEGIN:VCALENDAR
VERSION:2.0
PRODID:-//hacksw/handcal//NONSGML v1.0//EN
CALSCALE:GREGORIAN
BEGIN:VEVENT
DTSTART:20140122T110000Z
DTEND:20140122T120000Z
UID:e14373
DTSTAMP:20260425T081612Z
LOCATION:Wolfson Building for Biological Research
DESCRIPTION:"From Global Patterns to Mechanistic Insight of Ubl Regulation: Post-Translational Modification profiling with implications to cancer and immune regulation"
SUMMARY:"From Global Patterns to Mechanistic Insight of Ubl Regulation: Post-Translational Modification profiling with implications to cancer and immune regulation"
END:VEVENT
END:VCALENDAR