BEGIN:VCALENDAR
VERSION:2.0
PRODID:-//hacksw/handcal//NONSGML v1.0//EN
CALSCALE:GREGORIAN
BEGIN:VEVENT
DTSTART:20140126T060000Z
DTEND:20140126T100000Z
UID:e14374
DTSTAMP:20260425T081606Z
LOCATION:Gerhard M.J. Schmidt Lecture Hall
DESCRIPTION:Mini Symposium on Soft and Biological Matter
SUMMARY:Mini Symposium on Soft and Biological Matter
END:VEVENT
END:VCALENDAR