BEGIN:VCALENDAR
VERSION:2.0
PRODID:-//hacksw/handcal//NONSGML v1.0//EN
CALSCALE:GREGORIAN
BEGIN:VEVENT
DTSTART:20140127T093000Z
DTEND:20140127T093000Z
UID:e14377
DTSTAMP:20260425T234737Z
LOCATION:Gerhard M.J. Schmidt Lecture Hall
DESCRIPTION:Mechanisms of local circuit dynamics in freely moving animals 
SUMMARY:Mechanisms of local circuit dynamics in freely moving animals 
END:VEVENT
END:VCALENDAR