BEGIN:VCALENDAR
VERSION:2.0
PRODID:-//hacksw/handcal//NONSGML v1.0//EN
CALSCALE:GREGORIAN
BEGIN:VEVENT
DTSTART:20140202T080000Z
DTEND:20140202T080000Z
UID:e14402
DTSTAMP:20260425T234719Z
LOCATION:Sussman Family Building for Environmental Sciences
DESCRIPTION:Aerial dispersal of marine viruses and their potential impact on phytoplankton population dynamics
SUMMARY:Aerial dispersal of marine viruses and their potential impact on phytoplankton population dynamics
END:VEVENT
END:VCALENDAR