BEGIN:VCALENDAR
VERSION:2.0
PRODID:-//hacksw/handcal//NONSGML v1.0//EN
CALSCALE:GREGORIAN
BEGIN:VEVENT
DTSTART:20140203T111500Z
DTEND:20140203T111500Z
UID:e14405
DTSTAMP:20260425T234733Z
LOCATION:Edna and K.B. Weissman Building of Physical Sciences
DESCRIPTION:Universal power law scaling laws of information retrieval  from memory
SUMMARY:Universal power law scaling laws of information retrieval  from memory
END:VEVENT
END:VCALENDAR