BEGIN:VCALENDAR
VERSION:2.0
PRODID:-//hacksw/handcal//NONSGML v1.0//EN
CALSCALE:GREGORIAN
BEGIN:VEVENT
DTSTART:20140130T081500Z
DTEND:20140130T093000Z
UID:e14414
DTSTAMP:20260425T234736Z
LOCATION:Edna and K.B. Weissman Building of Physical Sciences
DESCRIPTION:Evolutionary tradeoffs and the geometry of biological shape space
SUMMARY:Evolutionary tradeoffs and the geometry of biological shape space
END:VEVENT
END:VCALENDAR