BEGIN:VCALENDAR
VERSION:2.0
PRODID:-//hacksw/handcal//NONSGML v1.0//EN
CALSCALE:GREGORIAN
BEGIN:VEVENT
DTSTART:20140204T081500Z
DTEND:20140204T081500Z
UID:e14421
DTSTAMP:20260425T234638Z
LOCATION:Ullmann Building of Life Sciences
DESCRIPTION:Common strategies in plant and human fungal pathogens: An interplay of cell death
SUMMARY:Common strategies in plant and human fungal pathogens: An interplay of cell death
END:VEVENT
END:VCALENDAR