BEGIN:VCALENDAR
VERSION:2.0
PRODID:-//hacksw/handcal//NONSGML v1.0//EN
CALSCALE:GREGORIAN
BEGIN:VEVENT
DTSTART:20140525T073000Z
DTEND:20140525T073000Z
UID:e14422
DTSTAMP:20260425T070934Z
LOCATION:Camelia Botnar Building
DESCRIPTION:Special Life Science Seminar 
SUMMARY:Special Life Science Seminar 
END:VEVENT
END:VCALENDAR