BEGIN:VCALENDAR
VERSION:2.0
PRODID:-//hacksw/handcal//NONSGML v1.0//EN
CALSCALE:GREGORIAN
BEGIN:VEVENT
DTSTART:20140406T120000Z
DTEND:20140406T130000Z
UID:e14442
DTSTAMP:20260423T155458Z
LOCATION:Arthur and Rochelle Belfer Building for Biomedical Research
DESCRIPTION:Bariatric Surgery: It's not what you think it is.  Molecular targets for the effect of surgery on obesity and diabetes
SUMMARY:Bariatric Surgery: It's not what you think it is.  Molecular targets for the effect of surgery on obesity and diabetes
END:VEVENT
END:VCALENDAR