BEGIN:VCALENDAR
VERSION:2.0
PRODID:-//hacksw/handcal//NONSGML v1.0//EN
CALSCALE:GREGORIAN
BEGIN:VEVENT
DTSTART:20140406T100000Z
DTEND:20140406T100000Z
UID:e14453
DTSTAMP:20260424T050110Z
LOCATION:Arthur and Rochelle Belfer Building for Biomedical Research
DESCRIPTION:Blindfolded out in the wild -  how an ER protease refines cellular nutrient sensing
SUMMARY:Blindfolded out in the wild -  how an ER protease refines cellular nutrient sensing
END:VEVENT
END:VCALENDAR