BEGIN:VCALENDAR
VERSION:2.0
PRODID:-//hacksw/handcal//NONSGML v1.0//EN
CALSCALE:GREGORIAN
BEGIN:VEVENT
DTSTART:20140416T150000Z
DTEND:20140416T150000Z
UID:e14464
DTSTAMP:20260425T135455Z
LOCATION:Michael Sela Auditorium
DESCRIPTION:Snow White
SUMMARY:Snow White
END:VEVENT
END:VCALENDAR