BEGIN:VCALENDAR
VERSION:2.0
PRODID:-//hacksw/handcal//NONSGML v1.0//EN
CALSCALE:GREGORIAN
BEGIN:VEVENT
DTSTART:20140511T100000Z
DTEND:20140511T100000Z
UID:e14476
DTSTAMP:20260424T180025Z
LOCATION:Arthur and Rochelle Belfer Building for Biomedical Research
DESCRIPTION:Feedforward coordination of cell size and division
SUMMARY:Feedforward coordination of cell size and division
END:VEVENT
END:VCALENDAR