BEGIN:VCALENDAR
VERSION:2.0
PRODID:-//hacksw/handcal//NONSGML v1.0//EN
CALSCALE:GREGORIAN
BEGIN:VEVENT
DTSTART:20140525T100000Z
DTEND:20140525T100000Z
UID:e14477
DTSTAMP:20260425T070926Z
LOCATION:Arthur and Rochelle Belfer Building for Biomedical Research
DESCRIPTION:Unique mode of proteasomal degradation of intrinsically disordered proteins (IDPs)
SUMMARY:Unique mode of proteasomal degradation of intrinsically disordered proteins (IDPs)
END:VEVENT
END:VCALENDAR