BEGIN:VCALENDAR
VERSION:2.0
PRODID:-//hacksw/handcal//NONSGML v1.0//EN
CALSCALE:GREGORIAN
BEGIN:VEVENT
DTSTART:20140622T100000Z
DTEND:20140622T100000Z
UID:e14480
DTSTAMP:20260425T195648Z
LOCATION:Arthur and Rochelle Belfer Building for Biomedical Research
DESCRIPTION:Divergent Regulation of Naive Vs. Primed Pluripotency Maintenance
SUMMARY:Divergent Regulation of Naive Vs. Primed Pluripotency Maintenance
END:VEVENT
END:VCALENDAR