BEGIN:VCALENDAR
VERSION:2.0
PRODID:-//hacksw/handcal//NONSGML v1.0//EN
CALSCALE:GREGORIAN
BEGIN:VEVENT
DTSTART:20140406T080000Z
DTEND:20140406T080000Z
UID:e14561
DTSTAMP:20260423T044704Z
LOCATION:Sussman Family Building for Environmental Sciences
DESCRIPTION:Mysteries of Transverse Mixing in Porous Media
SUMMARY:Mysteries of Transverse Mixing in Porous Media
END:VEVENT
END:VCALENDAR