BEGIN:VCALENDAR
VERSION:2.0
PRODID:-//hacksw/handcal//NONSGML v1.0//EN
CALSCALE:GREGORIAN
BEGIN:VEVENT
DTSTART:20140427T080000Z
DTEND:20140427T080000Z
UID:e14565
DTSTAMP:20260425T232746Z
LOCATION:Sussman Family Building for Environmental Sciences
DESCRIPTION:Early Evolution of the Earth-Moon System
SUMMARY:Early Evolution of the Earth-Moon System
END:VEVENT
END:VCALENDAR