BEGIN:VCALENDAR
VERSION:2.0
PRODID:-//hacksw/handcal//NONSGML v1.0//EN
CALSCALE:GREGORIAN
BEGIN:VEVENT
DTSTART:20140504T080000Z
DTEND:20140504T080000Z
UID:e14566
DTSTAMP:20260424T223648Z
LOCATION:Sussman Family Building for Environmental Sciences
DESCRIPTION:Turbulence\, jets\, and beta-plumes studied with laboratory altimetry
SUMMARY:Turbulence\, jets\, and beta-plumes studied with laboratory altimetry
END:VEVENT
END:VCALENDAR