BEGIN:VCALENDAR
VERSION:2.0
PRODID:-//hacksw/handcal//NONSGML v1.0//EN
CALSCALE:GREGORIAN
BEGIN:VEVENT
DTSTART:20140608T080000Z
DTEND:20140608T080000Z
UID:e14569
DTSTAMP:20260425T195649Z
LOCATION:Sussman Family Building for Environmental Sciences
DESCRIPTION:How will climate change affect the number of tropical cyclones?
SUMMARY:How will climate change affect the number of tropical cyclones?
END:VEVENT
END:VCALENDAR