BEGIN:VCALENDAR
VERSION:2.0
PRODID:-//hacksw/handcal//NONSGML v1.0//EN
CALSCALE:GREGORIAN
BEGIN:VEVENT
DTSTART:20140425T070000Z
DTEND:20140425T070000Z
UID:e14589
DTSTAMP:20260424T023916Z
LOCATION:Dolfi and Lola Ebner Auditorium
DESCRIPTION:Geographical Salon- South India 
SUMMARY:Geographical Salon- South India 
END:VEVENT
END:VCALENDAR