BEGIN:VCALENDAR
VERSION:2.0
PRODID:-//hacksw/handcal//NONSGML v1.0//EN
CALSCALE:GREGORIAN
BEGIN:VEVENT
DTSTART:20140408T143000Z
DTEND:20140408T143000Z
UID:e14590
DTSTAMP:20260424T050212Z
LOCATION:Michael Sela Auditorium
DESCRIPTION:Simba- The Lion King
SUMMARY:Simba- The Lion King
END:VEVENT
END:VCALENDAR