BEGIN:VCALENDAR
VERSION:2.0
PRODID:-//hacksw/handcal//NONSGML v1.0//EN
CALSCALE:GREGORIAN
BEGIN:VEVENT
DTSTART:20140529T173000Z
DTEND:20140529T173000Z
UID:e14596
DTSTAMP:20260425T195709Z
LOCATION:Michael Sela Auditorium
DESCRIPTION:Lend Me a Tenor 
SUMMARY:Lend Me a Tenor 
END:VEVENT
END:VCALENDAR