BEGIN:VCALENDAR
VERSION:2.0
PRODID:-//hacksw/handcal//NONSGML v1.0//EN
CALSCALE:GREGORIAN
BEGIN:VEVENT
DTSTART:20140403T080500Z
DTEND:20140403T080500Z
UID:e14600
DTSTAMP:20260424T024022Z
LOCATION:Jacob Ziskind Building
DESCRIPTION:Consistency of weighted majority votes 
SUMMARY:Consistency of weighted majority votes 
END:VEVENT
END:VCALENDAR