BEGIN:VCALENDAR
VERSION:2.0
PRODID:-//hacksw/handcal//NONSGML v1.0//EN
CALSCALE:GREGORIAN
BEGIN:VEVENT
DTSTART:20140520T070000Z
DTEND:20140520T080000Z
UID:e14611
DTSTAMP:20260424T223653Z
LOCATION:Wolfson Building for Biological Research
DESCRIPTION:Mechanisms of Developmental Robustness & Plasticity
SUMMARY:Mechanisms of Developmental Robustness & Plasticity
END:VEVENT
END:VCALENDAR