BEGIN:VCALENDAR
VERSION:2.0
PRODID:-//hacksw/handcal//NONSGML v1.0//EN
CALSCALE:GREGORIAN
BEGIN:VEVENT
DTSTART:20140610T070000Z
DTEND:20140610T080000Z
UID:e14612
DTSTAMP:20260425T195655Z
LOCATION:Wolfson Building for Biological Research
DESCRIPTION:Global approaches to the identification of novel drug targets in prostate cancer
SUMMARY:Global approaches to the identification of novel drug targets in prostate cancer
END:VEVENT
END:VCALENDAR