BEGIN:VCALENDAR
VERSION:2.0
PRODID:-//hacksw/handcal//NONSGML v1.0//EN
CALSCALE:GREGORIAN
BEGIN:VEVENT
DTSTART:20140520T110000Z
DTEND:20140520T110000Z
UID:e14614
DTSTAMP:20260424T223657Z
LOCATION:Arthur and Rochelle Belfer Building for Biomedical Research
DESCRIPTION:Regulation of mitochondrial transport in neurons: impact on synaptic function\, mitophagy\, and neurodegeneration
SUMMARY:Regulation of mitochondrial transport in neurons: impact on synaptic function\, mitophagy\, and neurodegeneration
END:VEVENT
END:VCALENDAR